BEGIN:VCALENDAR
VERSION:2.0
PRODID:-//Saxmundham - ECPv5.14.1//NONSGML v1.0//EN
CALSCALE:GREGORIAN
METHOD:PUBLISH
X-WR-CALNAME:Saxmundham
X-ORIGINAL-URL:https://www.saxmundham.org
X-WR-CALDESC:Events for Saxmundham
REFRESH-INTERVAL;VALUE=DURATION:PT1H
X-Robots-Tag:noindex
X-PUBLISHED-TTL:PT1H
BEGIN:VTIMEZONE
TZID:UTC
BEGIN:STANDARD
TZOFFSETFROM:+0000
TZOFFSETTO:+0000
TZNAME:UTC
DTSTART:20240101T000000
END:STANDARD
END:VTIMEZONE
BEGIN:VEVENT
DTSTART;VALUE=DATE:20240227
DTEND;VALUE=DATE:20240228
DTSTAMP:20260420T081711
CREATED:20240205T110911Z
LAST-MODIFIED:20240205T110941Z
UID:15409-1708992000-1709078399@www.saxmundham.org
SUMMARY:Be Well Bus
DESCRIPTION:The Bus is a mobile one-stop shop for health and wellbeing support in Ipswich and east Suffolk. Anyone is welcome to visit the Bus and you do not need an appointment – simply turn up at the advertised time. \nOn-board\, you will find a knowledgeable team made up of people from lots of different health\, care and community organisations. Depending on your needs\, our crew will either offer you help and advice there and then or signpost you to an organisation best-placed to help. \nIt is not yet confirmed the precise time and location of the bus’ visit to Saxmundham\, we will update when more information is released.  Alternatively\, keep an eye on their website for the latest information
URL:https://www.saxmundham.org/event/be-well-bus/
ATTACH;FMTTYPE=image/jpeg:https://www.saxmundham.org/wp-content/uploads/2024/02/Be-Well-Bus2-1024x610-1.jpg
END:VEVENT
END:VCALENDAR