BEGIN:VCALENDAR
VERSION:2.0
PRODID:-//Saxmundham - ECPv5.14.1//NONSGML v1.0//EN
CALSCALE:GREGORIAN
METHOD:PUBLISH
X-WR-CALNAME:Saxmundham
X-ORIGINAL-URL:https://www.saxmundham.org
X-WR-CALDESC:Events for Saxmundham
REFRESH-INTERVAL;VALUE=DURATION:PT1H
X-Robots-Tag:noindex
X-PUBLISHED-TTL:PT1H
BEGIN:VTIMEZONE
TZID:UTC
BEGIN:STANDARD
TZOFFSETFROM:+0000
TZOFFSETTO:+0000
TZNAME:UTC
DTSTART:20240101T000000
END:STANDARD
END:VTIMEZONE
BEGIN:VEVENT
DTSTART;TZID=UTC:20240731T100000
DTEND;TZID=UTC:20240731T123000
DTSTAMP:20260420T081806
CREATED:20240729T081933Z
LAST-MODIFIED:20240729T081933Z
UID:17183-1722420000-1722429000@www.saxmundham.org
SUMMARY:Discover Minsmere in Summer
DESCRIPTION:
URL:https://www.saxmundham.org/event/discover-minsmere-in-summer/
LOCATION:Minsmere\, Sheepwash Lane\, Westleton\, Suffolk\, IP17 3BY\, United Kingdom
END:VEVENT
END:VCALENDAR