BEGIN:VCALENDAR
VERSION:2.0
PRODID:-//Saxmundham - ECPv5.14.1//NONSGML v1.0//EN
CALSCALE:GREGORIAN
METHOD:PUBLISH
X-WR-CALNAME:Saxmundham
X-ORIGINAL-URL:https://www.saxmundham.org
X-WR-CALDESC:Events for Saxmundham
REFRESH-INTERVAL;VALUE=DURATION:PT1H
X-Robots-Tag:noindex
X-PUBLISHED-TTL:PT1H
BEGIN:VTIMEZONE
TZID:UTC
BEGIN:STANDARD
TZOFFSETFROM:+0000
TZOFFSETTO:+0000
TZNAME:UTC
DTSTART:20230101T000000
END:STANDARD
END:VTIMEZONE
BEGIN:VEVENT
DTSTART;TZID=UTC:20230902T200000
DTEND;TZID=UTC:20230902T220000
DTSTAMP:20260419T132221
CREATED:20230817T150034Z
LAST-MODIFIED:20230817T150338Z
UID:13126-1693684800-1693692000@www.saxmundham.org
SUMMARY:On Y Va French Ball
DESCRIPTION:From September 2023 On Y Va group are organising a new bi-monthly bal with\nsome of the best live bands from around the country. Playing on the\n1st Saturday of the month. \nThe venue is the market hall in\nSaxmundham\, (IP17 1AF) built in 1846 this hall has a large stage and\nbeauƟful wooden floor. The hall is in the centre of the small market\ntown\, 2 mins walk from the railway staƟon\, and a large free car park a\nshort distance away. \n£10 per ticket \nBookings please contact: Monica –\nFrenchdancer2006@yahoo.co.uk\nLin – 07919188549 \nSaturday 2nd September 2023\nDuo: Shepherd/Gielen\nDave Shepherd (England) on violin\nand Simon Gielen (Belgium) on\ndiatonic buƩon accordion have\nbeen described as a meeƟng of\ngeneraƟons combining Dave’s tradiƟonal based repertoire with\nSimon’s neo-folk influenced composiƟons. They perform exciƟng\ndance music for bal folk with a repertoire drawn from central France\,\nthe Vendee\, Poitou and BriƩany. Simon has flown over from Belgium\nto help us launch our bals and this offers a unique opportunity to see\nthis duo
URL:https://www.saxmundham.org/event/on-y-va-french-ball/
ATTACH;FMTTYPE=image/jpeg:https://www.saxmundham.org/wp-content/uploads/2023/08/ON-Y-VA.jpg
END:VEVENT
END:VCALENDAR