BEGIN:VCALENDAR
VERSION:2.0
PRODID:-//Saxmundham - ECPv5.14.1//NONSGML v1.0//EN
CALSCALE:GREGORIAN
METHOD:PUBLISH
X-WR-CALNAME:Saxmundham
X-ORIGINAL-URL:https://www.saxmundham.org
X-WR-CALDESC:Events for Saxmundham
REFRESH-INTERVAL;VALUE=DURATION:PT1H
X-Robots-Tag:noindex
X-PUBLISHED-TTL:PT1H
BEGIN:VTIMEZONE
TZID:UTC
BEGIN:STANDARD
TZOFFSETFROM:+0000
TZOFFSETTO:+0000
TZNAME:UTC
DTSTART:20230101T000000
END:STANDARD
END:VTIMEZONE
BEGIN:VEVENT
DTSTART;TZID=UTC:20231101T100000
DTEND;TZID=UTC:20231101T120000
DTSTAMP:20260419T170843
CREATED:20230907T163738Z
LAST-MODIFIED:20230907T163738Z
UID:13234-1698832800-1698840000@www.saxmundham.org
SUMMARY:Participate Music Club
DESCRIPTION:Come and explore objects and music with our friendly team of workshop leaders and musicians. These sessions will bring you together with others in your local community\, providing an opportunity to take part in activities and connect over tea and cake. Sessions last for two hours and tea and cake is provided. No musical experience is necessary. Sessions are free to attend – just show up! Our team are trained to ensure these workshops are suitable for those living with long term health conditions\, including dementia and Parkinson’s.
URL:https://www.saxmundham.org/event/participate-music-club-3-2-2-2-2/
LOCATION:Saxmundham Market Hall\, High Street\, Saxmundham\, IP171AF\, United Kingdom
ATTACH;FMTTYPE=image/jpeg:https://www.saxmundham.org/wp-content/uploads/2023/09/participate.jpg
END:VEVENT
END:VCALENDAR