BEGIN:VCALENDAR
VERSION:2.0
PRODID:-//Saxmundham - ECPv5.14.1//NONSGML v1.0//EN
CALSCALE:GREGORIAN
METHOD:PUBLISH
X-WR-CALNAME:Saxmundham
X-ORIGINAL-URL:https://www.saxmundham.org
X-WR-CALDESC:Events for Saxmundham
REFRESH-INTERVAL;VALUE=DURATION:PT1H
X-Robots-Tag:noindex
X-PUBLISHED-TTL:PT1H
BEGIN:VTIMEZONE
TZID:UTC
BEGIN:STANDARD
TZOFFSETFROM:+0000
TZOFFSETTO:+0000
TZNAME:UTC
DTSTART:20260101T000000
END:STANDARD
END:VTIMEZONE
BEGIN:VEVENT
DTSTART;TZID=UTC:20260508T193000
DTEND;TZID=UTC:20260508T213000
DTSTAMP:20260424T111304
CREATED:20260413T091702Z
LAST-MODIFIED:20260421T094531Z
UID:23468-1778268600-1778275800@www.saxmundham.org
SUMMARY:Reflex Theatre presents Call Me John
DESCRIPTION:John is worried he will be forgotten after he’s passed on. When his troubled grandson comes to visit\, he decides to share his life story\, hoping to inspire him. But can John’s history really connect with the “youth of today”? \nReflex Theatre revives this local tale of love\, conflict\, loss and hope that spans generations and beyond. \nNominated for two 2024 Norfolk Arts Awards (New Writing & Theatre Award) \nThere will be a post-show discussion with the cast and director after the performance. \n“Captivating. Wonderful storytelling and acting.” East Anglian Theatre Podcast \n“A brilliant\, beautiful play of such poignance…” Peter Steward \n“Neatly crafted\, a charming and gentle play…” Cultivated \nThis production has been made possible with funding from Alan Boswell Charitable Trust\, East Suffolk Council\, Hornsea 3 Community Fund and Norfolk Community Foundation.
URL:https://www.saxmundham.org/event/reflex-theatre-presents-call-me-john-2/
LOCATION:Saxmundham Market Place
ATTACH;FMTTYPE=image/png:https://www.saxmundham.org/wp-content/uploads/2026/04/Hero-Square-1.png
ORGANIZER;CN="Reflex%20Theatre":MAILTO:info@reflextheatre.co.uk
END:VEVENT
END:VCALENDAR