BEGIN:VCALENDAR
VERSION:2.0
PRODID:-//Saxmundham - ECPv5.14.1//NONSGML v1.0//EN
CALSCALE:GREGORIAN
METHOD:PUBLISH
X-WR-CALNAME:Saxmundham
X-ORIGINAL-URL:https://www.saxmundham.org
X-WR-CALDESC:Events for Saxmundham
REFRESH-INTERVAL;VALUE=DURATION:PT1H
X-Robots-Tag:noindex
X-PUBLISHED-TTL:PT1H
BEGIN:VTIMEZONE
TZID:UTC
BEGIN:STANDARD
TZOFFSETFROM:+0000
TZOFFSETTO:+0000
TZNAME:UTC
DTSTART:20260101T000000
END:STANDARD
END:VTIMEZONE
BEGIN:VEVENT
DTSTART;TZID=UTC:20261205T150000
DTEND;TZID=UTC:20261205T190000
DTSTAMP:20260419T114730
CREATED:20260202T110907Z
LAST-MODIFIED:20260202T121812Z
UID:23123-1796482800-1796497200@www.saxmundham.org
SUMMARY:Saxmundham Christmas Fayre 2026
DESCRIPTION:🎄 Saxmundham’s Annual Christmas Fayre\nJoin us for a magical day of festive fun in the heart of Saxmundham!Enjoy an extensive street market\, festive lights switch-on\, Santa’s Grotto\, indoor craft fair\, street and stage performances\, hot food\, children’s activities\, and much more. \n✨ Save the Date – More information to follow\n\nFor Stallholders\nWe’re welcoming applications from all types of stallholders for this year’s event\, with indoor and outdoor spaces available.Please note: power is not supplied\, so stalls must be able to operate off-grid. \n🔗 Visit our Markets page for more information or📧 Email community@saxmundham-tc.gov.uk to get involved.
URL:https://www.saxmundham.org/event/saxmundham-christmas-fayre-3/
LOCATION:Saxmundham Town Centre
ATTACH;FMTTYPE=image/png:https://www.saxmundham.org/wp-content/uploads/2026/02/Save-the-Date-Christmas-2026-Insta-Ratio.png
ORGANIZER;CN="Saxmundham%20Town%20Council":MAILTO:townclerk@saxmundham-tc.gov.uk
END:VEVENT
END:VCALENDAR