BEGIN:VCALENDAR
VERSION:2.0
PRODID:-//Saxmundham - ECPv5.14.1//NONSGML v1.0//EN
CALSCALE:GREGORIAN
METHOD:PUBLISH
X-WR-CALNAME:Saxmundham
X-ORIGINAL-URL:https://www.saxmundham.org
X-WR-CALDESC:Events for Saxmundham
REFRESH-INTERVAL;VALUE=DURATION:PT1H
X-Robots-Tag:noindex
X-PUBLISHED-TTL:PT1H
BEGIN:VTIMEZONE
TZID:UTC
BEGIN:STANDARD
TZOFFSETFROM:+0000
TZOFFSETTO:+0000
TZNAME:UTC
DTSTART:20220101T000000
END:STANDARD
END:VTIMEZONE
BEGIN:VEVENT
DTSTART;TZID=UTC:20220408T180000
DTEND;TZID=UTC:20220808T193000
DTSTAMP:20260419T151820
CREATED:20220329T110813Z
LAST-MODIFIED:20220329T110813Z
UID:7435-1649440800-1659987000@www.saxmundham.org
SUMMARY:H.G. Wells THE TIME MACHINE
DESCRIPTION:The Keeper’s Daughter Presents \n8th of April 2022 \nH.G. Wells THE TIME MACHINE \nTickets are £8 and can be purchased online  \nAdapted + Directed by Mark Finbow \nAn eccentric victorian inventor travels into the planet’s distant future\, where he discovers an idyllic garden-earth and quickly bonds with the peaceful inhabitants. But when\, in the still of night\, his Time Machine disappears the traveller is forced to confront the true fate of humanity’s future and must overcome a subterranean horror in a desperate escape back to his own time. \nUtilising spoken word\, puppetry and a fully working Time Machine The Keeper’s Daughter transform this classic victorian sci-fi into a neon-electro adventure for the entire family. \nSuitable for ages 7+ \nPerformance lasts 1 hour.
URL:https://www.saxmundham.org/event/h-g-wells-the-time-machine/
LOCATION:Saxmundham Market Hall\, High Street\, Saxmundham\, IP171AF\, United Kingdom
END:VEVENT
END:VCALENDAR