BEGIN:VCALENDAR
VERSION:2.0
PRODID:-//Saxmundham - ECPv5.14.1//NONSGML v1.0//EN
CALSCALE:GREGORIAN
METHOD:PUBLISH
X-WR-CALNAME:Saxmundham
X-ORIGINAL-URL:https://www.saxmundham.org
X-WR-CALDESC:Events for Saxmundham
REFRESH-INTERVAL;VALUE=DURATION:PT1H
X-Robots-Tag:noindex
X-PUBLISHED-TTL:PT1H
BEGIN:VTIMEZONE
TZID:UTC
BEGIN:STANDARD
TZOFFSETFROM:+0000
TZOFFSETTO:+0000
TZNAME:UTC
DTSTART:20250101T000000
END:STANDARD
END:VTIMEZONE
BEGIN:VEVENT
DTSTART;TZID=UTC:20250712T090000
DTEND;TZID=UTC:20250712T150000
DTSTAMP:20260424T123305
CREATED:20250623T081452Z
LAST-MODIFIED:20250623T081452Z
UID:21392-1752310800-1752332400@www.saxmundham.org
SUMMARY:Saxmundham Saturday Market
DESCRIPTION:
URL:https://www.saxmundham.org/event/saxmundham-saturday-market/
LOCATION:Fromus Square\, IP17 1DD
ATTACH;FMTTYPE=image/png:https://www.saxmundham.org/wp-content/uploads/2025/06/July.png
ORGANIZER;CN="Saxmundham%20Town%20Council":MAILTO:townclerk@saxmundham-tc.gov.uk
END:VEVENT
END:VCALENDAR