BEGIN:VCALENDAR
VERSION:2.0
PRODID:-//Saxmundham - ECPv5.14.1//NONSGML v1.0//EN
CALSCALE:GREGORIAN
METHOD:PUBLISH
X-WR-CALNAME:Saxmundham
X-ORIGINAL-URL:https://www.saxmundham.org
X-WR-CALDESC:Events for Saxmundham
REFRESH-INTERVAL;VALUE=DURATION:PT1H
X-Robots-Tag:noindex
X-PUBLISHED-TTL:PT1H
BEGIN:VTIMEZONE
TZID:UTC
BEGIN:STANDARD
TZOFFSETFROM:+0000
TZOFFSETTO:+0000
TZNAME:UTC
DTSTART:20250101T000000
END:STANDARD
END:VTIMEZONE
BEGIN:VEVENT
DTSTART;TZID=UTC:20250913T090000
DTEND;TZID=UTC:20250913T150000
DTSTAMP:20260424T081454
CREATED:20250623T083407Z
LAST-MODIFIED:20250623T083524Z
UID:21401-1757754000-1757775600@www.saxmundham.org
SUMMARY:Saxmundham Saturday Market
DESCRIPTION:Artisan monthly market in the picturesque surroundings of Fromus Square. Featuring a range of stall selling local and artisan products. \nThis month also includes a special indoor market hosted in the historic Market Hall. \nInterested stallholders are invited to contact bookings@saxmundham-tc.gov.uk
URL:https://www.saxmundham.org/event/saxmundham-saturday-market-2/
LOCATION:Fromus Square\, IP17 1DD
ATTACH;FMTTYPE=image/png:https://www.saxmundham.org/wp-content/uploads/2025/06/September.png
ORGANIZER;CN="Saxmundham%20Town%20Council":MAILTO:townclerk@saxmundham-tc.gov.uk
END:VEVENT
END:VCALENDAR