BEGIN:VCALENDAR
VERSION:2.0
PRODID:-//Saxmundham - ECPv5.14.1//NONSGML v1.0//EN
CALSCALE:GREGORIAN
METHOD:PUBLISH
X-WR-CALNAME:Saxmundham
X-ORIGINAL-URL:https://www.saxmundham.org
X-WR-CALDESC:Events for Saxmundham
REFRESH-INTERVAL;VALUE=DURATION:PT1H
X-Robots-Tag:noindex
X-PUBLISHED-TTL:PT1H
BEGIN:VTIMEZONE
TZID:UTC
BEGIN:STANDARD
TZOFFSETFROM:+0000
TZOFFSETTO:+0000
TZNAME:UTC
DTSTART:20250101T000000
END:STANDARD
END:VTIMEZONE
BEGIN:VEVENT
DTSTART;TZID=UTC:20250920T200000
DTEND;TZID=UTC:20250920T223000
DTSTAMP:20260424T081503
CREATED:20250606T153903Z
LAST-MODIFIED:20250609T153517Z
UID:21247-1758398400-1758407400@www.saxmundham.org
SUMMARY:Market Hall Dances - Market Hall\, Saxmundham - IP17 1AF
DESCRIPTION:We begin our new season of bals (dances) bringing some of the best live bands from around the country who specialise in French dance music.  Our first band are a trio based in the UK and Germany.  The trio consists of Steve Tyler (hurdy-gurdy\, cittern)\, Katy Marchant (border pipes\, whistles)\, and Nick Wiseman-Ellis (diatonic button accordion).\nSteve and Katy have been playing music together since 2001.  The band – Woodwose – was formed in 2012\, initially to play balfolk\, but since then the scope has been expanded\, Nick joined in 2025.\nWith a vast array of self-penned and traditional tunes for dancing\, from driving joyful bourrées and Breton dances to romantic mazurkas and sensual five-time waltzes\, there’s something for everyone to enjoy.  So\, get your dancing shoes ready!\nIf you prefer not to dance come along and just enjoy the social occasion and the wonderful music.\nIf you have never tried French and Breton dancing before why not come along and give it a go\, for most of the Breton dances you do not require a partner and some are fairly simple to pick up.  Most towns in Brittany have a fest noz (night dance) in the summer\, often weekly where the whole community comes together\, dances\, socialises and has a drink or two.  We try to emulate this with our bals.  There will be lots of people who will help you with the steps. \nNo bar please bring your own refreshments.
URL:https://www.saxmundham.org/event/market-hall-dances-market-hall-saxmundham-ip17-1af-6/
LOCATION:Saxmundham Market Hall\, High Street\, Saxmundham\, IP171AF\, United Kingdom
ATTACH;FMTTYPE=image/jpeg:https://www.saxmundham.org/wp-content/uploads/2025/06/Woodwose-4.jpg
ORGANIZER;CN="On%20y%20va%21%20French%20and%20Breton%20Dance%20Club":MAILTO:frenchdancer2004@yahoo.co.uk
END:VEVENT
END:VCALENDAR