BEGIN:VCALENDAR
VERSION:2.0
PRODID:-//Saxmundham - ECPv5.14.1//NONSGML v1.0//EN
CALSCALE:GREGORIAN
METHOD:PUBLISH
X-WR-CALNAME:Saxmundham
X-ORIGINAL-URL:https://www.saxmundham.org
X-WR-CALDESC:Events for Saxmundham
REFRESH-INTERVAL;VALUE=DURATION:PT1H
X-Robots-Tag:noindex
X-PUBLISHED-TTL:PT1H
BEGIN:VTIMEZONE
TZID:UTC
BEGIN:STANDARD
TZOFFSETFROM:+0000
TZOFFSETTO:+0000
TZNAME:UTC
DTSTART:20250101T000000
END:STANDARD
END:VTIMEZONE
BEGIN:VEVENT
DTSTART;TZID=UTC:20251005T110000
DTEND;TZID=UTC:20251005T130000
DTSTAMP:20260420T094503
CREATED:20250915T105451Z
LAST-MODIFIED:20250915T105451Z
UID:22247-1759662000-1759669200@www.saxmundham.org
SUMMARY:The Saxons 5 Mile Race
DESCRIPTION:The Saxons 5 Mile Race (Race licence 29696) is held at Saxmundham Running & Fitness\, Carlton Park\, Saxmundham\, IP17 1AT. \nThe main race starts at 11 am and is open to all runners aged 15 and over. \nTaking place on Sunday 5th October 2025\, the Saxons 5 Mile Race is a chip timed\, multi terrain run on playing field\, footpaths and off road that is fully marshalled and sign posted. There will be winner’s prizes and a race memento for every finisher! \nThe route takes runners from the sports field at Carlton Park Sports Ground towards Brook Farm Road and Kelsale\, where it then loops round and finishes back at the sports field.
URL:https://www.saxmundham.org/event/the-saxons-5-mile-race/
LOCATION:Carlton Park Sports Pavilion\, Carlton Park\, Saxmundham\, Suffolk\, IP17 1AT\, United Kingdom
ATTACH;FMTTYPE=image/jpeg:https://www.saxmundham.org/wp-content/uploads/2025/09/Phil-Donlan-Saxons-Race-2023-no-sharing-permissions.jpg
END:VEVENT
END:VCALENDAR