BEGIN:VCALENDAR
VERSION:2.0
PRODID:-//Saxmundham - ECPv5.14.1//NONSGML v1.0//EN
CALSCALE:GREGORIAN
METHOD:PUBLISH
X-WR-CALNAME:Saxmundham
X-ORIGINAL-URL:https://www.saxmundham.org
X-WR-CALDESC:Events for Saxmundham
REFRESH-INTERVAL;VALUE=DURATION:PT1H
X-Robots-Tag:noindex
X-PUBLISHED-TTL:PT1H
BEGIN:VTIMEZONE
TZID:UTC
BEGIN:STANDARD
TZOFFSETFROM:+0000
TZOFFSETTO:+0000
TZNAME:UTC
DTSTART:20250101T000000
END:STANDARD
END:VTIMEZONE
BEGIN:VEVENT
DTSTART;TZID=UTC:20251011T193000
DTEND;TZID=UTC:20251011T213000
DTSTAMP:20260424T123543
CREATED:20250630T074738Z
LAST-MODIFIED:20250630T081043Z
UID:21688-1760211000-1760218200@www.saxmundham.org
SUMMARY:Akenfield
DESCRIPTION:Meet the ABC Radio team\, take a look around their new premises and take your chance to appear on the radio.
URL:https://www.saxmundham.org/event/akenfield-2/
LOCATION:Saxmundham Market Hall\, High Street\, Saxmundham\, IP171AF\, United Kingdom
ATTACH;FMTTYPE=image/jpeg:https://www.saxmundham.org/wp-content/uploads/2025/06/LaurencePosterJCH.jpeg
END:VEVENT
BEGIN:VEVENT
DTSTART;TZID=UTC:20251014T143000
DTEND;TZID=UTC:20251014T163000
DTSTAMP:20260424T123543
CREATED:20250922T084033Z
LAST-MODIFIED:20250922T084033Z
UID:22322-1760452200-1760459400@www.saxmundham.org
SUMMARY:Family History Group- Drop In Session
DESCRIPTION:Meet the ABC Radio team\, take a look around their new premises and take your chance to appear on the radio.
URL:https://www.saxmundham.org/event/family-history-group-drop-in-session/
LOCATION:Saxmundham Library
ATTACH;FMTTYPE=image/jpeg:https://www.saxmundham.org/wp-content/uploads/2025/09/AV.jpg
END:VEVENT
BEGIN:VEVENT
DTSTART;TZID=UTC:20251020T143000
DTEND;TZID=UTC:20251020T163000
DTSTAMP:20260424T123543
CREATED:20250922T083144Z
LAST-MODIFIED:20250922T083144Z
UID:22318-1760970600-1760977800@www.saxmundham.org
SUMMARY:The Hollond Family of Great Ashfield House - a Talk by Dave Steward
DESCRIPTION:Meet the ABC Radio team\, take a look around their new premises and take your chance to appear on the radio.
URL:https://www.saxmundham.org/event/the-hollond-family-of-great-ashfield-house-a-talk-by-dave-steward/
LOCATION:The Fromus Centre\, Street Farm Road\, Saxmundham\, IP17 1AL\, United Kingdom
ATTACH;FMTTYPE=image/jpeg:https://www.saxmundham.org/wp-content/uploads/2025/09/Alde-Valley-History-Group-1.jpg
END:VEVENT
BEGIN:VEVENT
DTSTART;TZID=UTC:20251104T160000
DTEND;TZID=UTC:20251209T180000
DTSTAMP:20260424T123543
CREATED:20251022T144516Z
LAST-MODIFIED:20251022T144528Z
UID:22438-1762272000-1765303200@www.saxmundham.org
SUMMARY:Creative Cooking with Art Station
DESCRIPTION:Meet the ABC Radio team\, take a look around their new premises and take your chance to appear on the radio.
URL:https://www.saxmundham.org/event/creative-cooking-with-art-station/
LOCATION:The Fromus Centre\, Street Farm Road\, Saxmundham\, IP17 1AL\, United Kingdom
ATTACH;FMTTYPE=image/jpeg:https://www.saxmundham.org/wp-content/uploads/2025/10/Creative-Cooking-Flyer-NEW.jpg
ORGANIZER;CN="Art%20Station":MAILTO:verity@theartstation.uk
END:VEVENT
BEGIN:VEVENT
DTSTART;TZID=UTC:20251108T090000
DTEND;TZID=UTC:20251108T150000
DTSTAMP:20260424T123543
CREATED:20250623T083810Z
LAST-MODIFIED:20250623T094736Z
UID:21409-1762592400-1762614000@www.saxmundham.org
SUMMARY:Saxmundham Saturday Market
DESCRIPTION:Meet the ABC Radio team\, take a look around their new premises and take your chance to appear on the radio.
URL:https://www.saxmundham.org/event/saxmundham-saturday-market-3-2/
LOCATION:Fromus Square\, IP17 1DD
ATTACH;FMTTYPE=image/png:https://www.saxmundham.org/wp-content/uploads/2025/06/November.png
ORGANIZER;CN="Saxmundham%20Town%20Council":MAILTO:townclerk@saxmundham-tc.gov.uk
END:VEVENT
BEGIN:VEVENT
DTSTART;TZID=UTC:20251111T143000
DTEND;TZID=UTC:20251111T163000
DTSTAMP:20260424T123543
CREATED:20250922T084132Z
LAST-MODIFIED:20250922T084132Z
UID:22325-1762871400-1762878600@www.saxmundham.org
SUMMARY:Family History Group- Drop In Session
DESCRIPTION:Meet the ABC Radio team\, take a look around their new premises and take your chance to appear on the radio.
URL:https://www.saxmundham.org/event/family-history-group-drop-in-session-2/
LOCATION:Saxmundham Library
ATTACH;FMTTYPE=image/jpeg:https://www.saxmundham.org/wp-content/uploads/2025/09/AV.jpg
END:VEVENT
BEGIN:VEVENT
DTSTART;TZID=UTC:20251122T200000
DTEND;TZID=UTC:20251122T223000
DTSTAMP:20260424T123543
CREATED:20250609T153716Z
LAST-MODIFIED:20250609T153716Z
UID:21249-1763841600-1763850600@www.saxmundham.org
SUMMARY:Market Hall Dances - Market Hall\, Saxmundham - IP17 1AF
DESCRIPTION:Meet the ABC Radio team\, take a look around their new premises and take your chance to appear on the radio.
URL:https://www.saxmundham.org/event/market-hall-dances-market-hall-saxmundham-ip17-1af-7/
LOCATION:Saxmundham Market Hall\, High Street\, Saxmundham\, IP171AF\, United Kingdom
ATTACH;FMTTYPE=image/jpeg:https://www.saxmundham.org/wp-content/uploads/2025/06/Annette-Geoff.jpeg
ORGANIZER;CN="On%20y%20va%21%20French%20and%20Breton%20Dance%20Club":MAILTO:frenchdancer2004@yahoo.co.uk
END:VEVENT
BEGIN:VEVENT
DTSTART;TZID=UTC:20251129T100000
DTEND;TZID=UTC:20251129T120000
DTSTAMP:20260424T123543
CREATED:20251022T144839Z
LAST-MODIFIED:20251022T144839Z
UID:22449-1764410400-1764417600@www.saxmundham.org
SUMMARY:Wreath Making Workshop
DESCRIPTION:Meet the ABC Radio team\, take a look around their new premises and take your chance to appear on the radio.
URL:https://www.saxmundham.org/event/wreath-making-workshop/
LOCATION:St Johns Church\, : Church Hill\, Saxmundham\, IP17 1ES\, United Kingdom
ATTACH;FMTTYPE=image/jpeg:https://www.saxmundham.org/wp-content/uploads/2025/10/SKC-wreath-making.jpg
END:VEVENT
BEGIN:VEVENT
DTSTART;TZID=UTC:20251206T150000
DTEND;TZID=UTC:20251206T190000
DTSTAMP:20260424T123543
CREATED:20250623T100229Z
LAST-MODIFIED:20251008T161614Z
UID:21412-1765033200-1765047600@www.saxmundham.org
SUMMARY:Saxmundham Christmas Fayre 2025
DESCRIPTION:Meet the ABC Radio team\, take a look around their new premises and take your chance to appear on the radio.
URL:https://www.saxmundham.org/event/saxmundham-christmas-fayre/
LOCATION:Saxmundham Town Centre
ATTACH;FMTTYPE=image/png:https://www.saxmundham.org/wp-content/uploads/2025/06/Poster.png
ORGANIZER;CN="Saxmundham%20Town%20Council":MAILTO:townclerk@saxmundham-tc.gov.uk
END:VEVENT
BEGIN:VEVENT
DTSTART;TZID=UTC:20251206T150000
DTEND;TZID=UTC:20251206T190000
DTSTAMP:20260424T123543
CREATED:20251008T161949Z
LAST-MODIFIED:20251008T170141Z
UID:22378-1765033200-1765047600@www.saxmundham.org
SUMMARY:Santa's Grotto
DESCRIPTION:Meet the ABC Radio team\, take a look around their new premises and take your chance to appear on the radio.
URL:https://www.saxmundham.org/event/saxmundham-christmas-fayre-2/
LOCATION:Saxmundham Town Centre
ATTACH;FMTTYPE=image/png:https://www.saxmundham.org/wp-content/uploads/2025/10/Saxmundham-Grotto-2025-poster.png
ORGANIZER;CN="Saxmundham%20Town%20Council":MAILTO:townclerk@saxmundham-tc.gov.uk
END:VEVENT
BEGIN:VEVENT
DTSTART;TZID=UTC:20251209T143000
DTEND;TZID=UTC:20251209T163000
DTSTAMP:20260424T123543
CREATED:20250922T090937Z
LAST-MODIFIED:20250922T090937Z
UID:22332-1765290600-1765297800@www.saxmundham.org
SUMMARY:Family History Group- Drop In Session
DESCRIPTION:Meet the ABC Radio team\, take a look around their new premises and take your chance to appear on the radio.
URL:https://www.saxmundham.org/event/family-history-group-drop-in-session-2-2/
LOCATION:Saxmundham Library
ATTACH;FMTTYPE=image/jpeg:https://www.saxmundham.org/wp-content/uploads/2025/09/AV.jpg
END:VEVENT
BEGIN:VEVENT
DTSTART;TZID=UTC:20260117T200000
DTEND;TZID=UTC:20260117T223000
DTSTAMP:20260424T123543
CREATED:20250616T082249Z
LAST-MODIFIED:20250616T082249Z
UID:21251-1768680000-1768689000@www.saxmundham.org
SUMMARY:Market Hall Dances - Market Hall\, Saxmundham - IP17 1AF
DESCRIPTION:Meet the ABC Radio team\, take a look around their new premises and take your chance to appear on the radio.
URL:https://www.saxmundham.org/event/market-hall-dances-market-hall-saxmundham-ip17-1af-8/
LOCATION:Saxmundham Market Hall\, High Street\, Saxmundham\, IP171AF\, United Kingdom
ATTACH;FMTTYPE=image/jpeg:https://www.saxmundham.org/wp-content/uploads/2025/06/Corbeau.jpg
ORGANIZER;CN="On%20y%20va%21%20French%20and%20Breton%20Dance%20Club":MAILTO:frenchdancer2004@yahoo.co.uk
END:VEVENT
BEGIN:VEVENT
DTSTART;TZID=UTC:20260211T100000
DTEND;TZID=UTC:20260211T120000
DTSTAMP:20260424T123543
CREATED:20260205T111733Z
LAST-MODIFIED:20260205T113908Z
UID:23143-1770804000-1770811200@www.saxmundham.org
SUMMARY:Participate Music Workshop
DESCRIPTION:Meet the ABC Radio team\, take a look around their new premises and take your chance to appear on the radio.
URL:https://www.saxmundham.org/event/participate-music-club-2025-2/
LOCATION:St Johns Church Hall\, Church Hill\, Saxmundham\, IP171ES\, United Kingdom
ATTACH;FMTTYPE=image/png:https://www.saxmundham.org/wp-content/uploads/2026/02/Participate-Spring-2026.png
END:VEVENT
BEGIN:VEVENT
DTSTART;TZID=UTC:20260225T100000
DTEND;TZID=UTC:20260225T120000
DTSTAMP:20260424T123543
CREATED:20260205T114401Z
LAST-MODIFIED:20260205T114409Z
UID:23147-1772013600-1772020800@www.saxmundham.org
SUMMARY:Participate Music Workshop
DESCRIPTION:Meet the ABC Radio team\, take a look around their new premises and take your chance to appear on the radio.
URL:https://www.saxmundham.org/event/participate-music-club-2025-2-2/
LOCATION:St Johns Church Hall\, Church Hill\, Saxmundham\, IP171ES\, United Kingdom
ATTACH;FMTTYPE=image/png:https://www.saxmundham.org/wp-content/uploads/2026/02/Participate-Spring-2026.png
END:VEVENT
BEGIN:VEVENT
DTSTART;TZID=UTC:20260304T100000
DTEND;TZID=UTC:20260304T120000
DTSTAMP:20260424T123543
CREATED:20260205T114554Z
LAST-MODIFIED:20260205T114554Z
UID:23149-1772618400-1772625600@www.saxmundham.org
SUMMARY:Participate Music Workshop
DESCRIPTION:Meet the ABC Radio team\, take a look around their new premises and take your chance to appear on the radio.
URL:https://www.saxmundham.org/event/participate-music-club-2025-2-2-2/
LOCATION:St Johns Church Hall\, Church Hill\, Saxmundham\, IP171ES\, United Kingdom
ATTACH;FMTTYPE=image/png:https://www.saxmundham.org/wp-content/uploads/2026/02/Participate-Spring-2026.png
END:VEVENT
BEGIN:VEVENT
DTSTART;TZID=UTC:20260305T190000
DTEND;TZID=UTC:20260423T213000
DTSTAMP:20260424T123543
CREATED:20260113T161018Z
LAST-MODIFIED:20260202T110343Z
UID:22860-1772737200-1776979800@www.saxmundham.org
SUMMARY:SOUND BEGINNINGS The Whys and Hows of Contemporary Classical Music
DESCRIPTION:Meet the ABC Radio team\, take a look around their new premises and take your chance to appear on the radio.
URL:https://www.saxmundham.org/event/sound-beginnings-the-whys-and-hows-of-contemporary-classical-music/
LOCATION:Printroom Studio\, printroom studio\, Yew Tree Farm\, Sweffling\, IP17 2BU\, United Kingdom
ATTACH;FMTTYPE=image/jpeg:https://www.saxmundham.org/wp-content/uploads/2026/01/Liza-Lim.jpg
ORGANIZER;CN="FlipSide":MAILTO:info@flipsideuk.org
END:VEVENT
BEGIN:VEVENT
DTSTART;TZID=UTC:20260307T193000
DTEND;TZID=UTC:20260307T223000
DTSTAMP:20260424T123543
CREATED:20260217T093032Z
LAST-MODIFIED:20260217T093032Z
UID:23195-1772911800-1772922600@www.saxmundham.org
SUMMARY:INK Henham Theatre - A Revue in Words and Song
DESCRIPTION:Meet the ABC Radio team\, take a look around their new premises and take your chance to appear on the radio.
URL:https://www.saxmundham.org/event/ink-henham-theatre-a-revue-in-words-and-song/
LOCATION:Henham Barns\, Suffolk\, NR34 8AQ\, United Kingdom
ATTACH;FMTTYPE=image/jpeg:https://www.saxmundham.org/wp-content/uploads/2026/02/Henham-Barns-Email-version.jpg
END:VEVENT
BEGIN:VEVENT
DTSTART;TZID=UTC:20260311T100000
DTEND;TZID=UTC:20260311T120000
DTSTAMP:20260424T123543
CREATED:20260205T114658Z
LAST-MODIFIED:20260205T114658Z
UID:23151-1773223200-1773230400@www.saxmundham.org
SUMMARY:Participate Music Workshop
DESCRIPTION:Meet the ABC Radio team\, take a look around their new premises and take your chance to appear on the radio.
URL:https://www.saxmundham.org/event/participate-music-club-2025-2-2-2-2/
LOCATION:St Johns Church Hall\, Church Hill\, Saxmundham\, IP171ES\, United Kingdom
ATTACH;FMTTYPE=image/png:https://www.saxmundham.org/wp-content/uploads/2026/02/Participate-Spring-2026.png
END:VEVENT
BEGIN:VEVENT
DTSTART;TZID=UTC:20260314T200000
DTEND;TZID=UTC:20260314T223000
DTSTAMP:20260424T123543
CREATED:20250606T160713Z
LAST-MODIFIED:20250609T133731Z
UID:21253-1773518400-1773527400@www.saxmundham.org
SUMMARY:Market Hall Dances - Market Hall\, Saxmundham - IP17 1AF
DESCRIPTION:Meet the ABC Radio team\, take a look around their new premises and take your chance to appear on the radio.
URL:https://www.saxmundham.org/event/market-hall-dances-market-hall-saxmundham-ip17-1af-5/
LOCATION:Saxmundham Market Hall\, High Street\, Saxmundham\, IP171AF\, United Kingdom
ATTACH;FMTTYPE=image/jpeg:https://www.saxmundham.org/wp-content/uploads/2025/06/Bof.jpg
ORGANIZER;CN="On%20y%20va%21%20French%20and%20Breton%20Dance%20Club":MAILTO:frenchdancer2004@yahoo.co.uk
END:VEVENT
BEGIN:VEVENT
DTSTART;TZID=UTC:20260318T100000
DTEND;TZID=UTC:20260318T120000
DTSTAMP:20260424T123543
CREATED:20260205T114728Z
LAST-MODIFIED:20260205T114737Z
UID:23153-1773828000-1773835200@www.saxmundham.org
SUMMARY:Participate Music Workshop
DESCRIPTION:Meet the ABC Radio team\, take a look around their new premises and take your chance to appear on the radio.
URL:https://www.saxmundham.org/event/participate-music-club-2025-2-2-2-2-2/
LOCATION:St Johns Church Hall\, Church Hill\, Saxmundham\, IP171ES\, United Kingdom
ATTACH;FMTTYPE=image/png:https://www.saxmundham.org/wp-content/uploads/2026/02/Participate-Spring-2026.png
END:VEVENT
BEGIN:VEVENT
DTSTART;TZID=UTC:20260324T140000
DTEND;TZID=UTC:20260324T153000
DTSTAMP:20260424T123543
CREATED:20260310T170424Z
LAST-MODIFIED:20260310T170503Z
UID:23303-1774360800-1774366200@www.saxmundham.org
SUMMARY:Community Litter Picking
DESCRIPTION:Meet the ABC Radio team\, take a look around their new premises and take your chance to appear on the radio.
URL:https://www.saxmundham.org/event/community-litter-picking/
LOCATION:The Town House\, The Town House\, Saxmundham\, Suffolk\, IP17 1BW\, United Kingdom
ATTACH;FMTTYPE=image/png:https://www.saxmundham.org/wp-content/uploads/2026/03/Lets-clean-up.png
ORGANIZER;CN="Saxmundham%20Town%20Council":MAILTO:townclerk@saxmundham-tc.gov.uk
END:VEVENT
BEGIN:VEVENT
DTSTART;TZID=UTC:20260325T100000
DTEND;TZID=UTC:20260325T120000
DTSTAMP:20260424T123543
CREATED:20260205T114811Z
LAST-MODIFIED:20260205T151920Z
UID:23155-1774432800-1774440000@www.saxmundham.org
SUMMARY:Participate Music Workshop
DESCRIPTION:Meet the ABC Radio team\, take a look around their new premises and take your chance to appear on the radio.
URL:https://www.saxmundham.org/event/participate-music-club-2025-2-2-2-2-3/
LOCATION:St Johns Church Hall\, Church Hill\, Saxmundham\, IP171ES\, United Kingdom
ATTACH;FMTTYPE=image/png:https://www.saxmundham.org/wp-content/uploads/2026/02/Participate-Spring-2026.png
END:VEVENT
BEGIN:VEVENT
DTSTART;TZID=UTC:20260328T100000
DTEND;TZID=UTC:20260328T113000
DTSTAMP:20260424T123543
CREATED:20260310T170624Z
LAST-MODIFIED:20260310T170624Z
UID:23308-1774692000-1774697400@www.saxmundham.org
SUMMARY:Community Litter Picking
DESCRIPTION:Meet the ABC Radio team\, take a look around their new premises and take your chance to appear on the radio.
URL:https://www.saxmundham.org/event/community-litter-picking-2/
LOCATION:The Town House\, The Town House\, Saxmundham\, Suffolk\, IP17 1BW\, United Kingdom
ATTACH;FMTTYPE=image/png:https://www.saxmundham.org/wp-content/uploads/2026/03/Lets-clean-up.png
ORGANIZER;CN="Saxmundham%20Town%20Council":MAILTO:townclerk@saxmundham-tc.gov.uk
END:VEVENT
BEGIN:VEVENT
DTSTART;TZID=UTC:20260401T090000
DTEND;TZID=UTC:20260403T160000
DTSTAMP:20260424T123543
CREATED:20260421T094326Z
LAST-MODIFIED:20260421T094326Z
UID:23314-1775034000-1775232000@www.saxmundham.org
SUMMARY:Easter Holiday Activity Days
DESCRIPTION:Meet the ABC Radio team\, take a look around their new premises and take your chance to appear on the radio.
URL:https://www.saxmundham.org/event/easter-holiday-activity-days/
LOCATION:Saxmundham Market Hall\, High Street\, Saxmundham\, IP171AF\, United Kingdom
ATTACH;FMTTYPE=image/jpeg:https://www.saxmundham.org/wp-content/uploads/2026/03/Easter_HAF_2026-scaled.jpg
ORGANIZER;CN="Art%20Station":MAILTO:verity@theartstation.uk
END:VEVENT
BEGIN:VEVENT
DTSTART;TZID=UTC:20260411T090000
DTEND;TZID=UTC:20260411T150000
DTSTAMP:20260424T123543
CREATED:20260217T135557Z
LAST-MODIFIED:20260217T145301Z
UID:23207-1775898000-1775919600@www.saxmundham.org
SUMMARY:Saxmundham Saturday Market - April
DESCRIPTION:Meet the ABC Radio team\, take a look around their new premises and take your chance to appear on the radio.
URL:https://www.saxmundham.org/event/saxmundham-saturday-market-3-2-2/
LOCATION:Fromus Square\, IP17 1DD
ATTACH;FMTTYPE=image/png:https://www.saxmundham.org/wp-content/uploads/2026/02/1.png
ORGANIZER;CN="Saxmundham%20Town%20Council":MAILTO:townclerk@saxmundham-tc.gov.uk
END:VEVENT
BEGIN:VEVENT
DTSTART;TZID=UTC:20260414T100000
DTEND;TZID=UTC:20260929T120000
DTSTAMP:20260424T123543
CREATED:20260421T094136Z
LAST-MODIFIED:20260421T094149Z
UID:23450-1776160800-1790683200@www.saxmundham.org
SUMMARY:Forest Families
DESCRIPTION:Meet the ABC Radio team\, take a look around their new premises and take your chance to appear on the radio.
URL:https://www.saxmundham.org/event/forest-families/
LOCATION:The Old Bank\, The Old Bank\, Saxmundham\, Suffolk\, IP17 1AE\, United Kingdom
ATTACH;FMTTYPE=image/jpeg:https://www.saxmundham.org/wp-content/uploads/2026/04/IMG_9724-scaled.jpeg
ORGANIZER;CN="The%20Art%20Station":MAILTO:info@theartstation.uk
END:VEVENT
BEGIN:VEVENT
DTSTART;TZID=UTC:20260415T190000
DTEND;TZID=UTC:20260415T203000
DTSTAMP:20260424T123543
CREATED:20260324T104104Z
LAST-MODIFIED:20260324T104104Z
UID:23414-1776279600-1776285000@www.saxmundham.org
SUMMARY:Public Meeting on the state of the River Fromus
DESCRIPTION:Meet the ABC Radio team\, take a look around their new premises and take your chance to appear on the radio.
URL:https://www.saxmundham.org/event/public-meeting-on-the-state-of-the-river-fromus/
LOCATION:Kelsale Village Hall\, Bridge Street\, Kelsale\, Suffolk\, IP17 2PB\, United Kingdom
ATTACH;FMTTYPE=image/png:https://www.saxmundham.org/wp-content/uploads/2026/03/55959f22-1.png
END:VEVENT
BEGIN:VEVENT
DTSTART;TZID=UTC:20260422T160000
DTEND;TZID=UTC:20260527T180000
DTSTAMP:20260424T123544
CREATED:20260408T131213Z
LAST-MODIFIED:20260421T094404Z
UID:23452-1776873600-1779904800@www.saxmundham.org
SUMMARY:Family Cooking Sessions - Art Station Food Project
DESCRIPTION:Meet the ABC Radio team\, take a look around their new premises and take your chance to appear on the radio.
URL:https://www.saxmundham.org/event/family-cooking-sessions-art-station-food-project/
LOCATION:The Fromus Centre\, Street Farm Road\, Saxmundham\, IP17 1AL\, United Kingdom
ATTACH;FMTTYPE=image/jpeg:https://www.saxmundham.org/wp-content/uploads/2026/04/7031b859-6589-43f2-9218-85113282296b.jpg
ORGANIZER;CN="Art%20Station":MAILTO:verity@theartstation.uk
END:VEVENT
BEGIN:VEVENT
DTSTART;TZID=UTC:20260425T163000
DTEND;TZID=UTC:20260425T183000
DTSTAMP:20260424T123544
CREATED:20260408T132333Z
LAST-MODIFIED:20260421T094412Z
UID:23454-1777134600-1777141800@www.saxmundham.org
SUMMARY:Hettie Judah in conversation with Jennifer Pitchers\, Kristina Tonev & Anna Ilsley followed by a book signing: How to Enter the Art World …AFTER
DESCRIPTION:Meet the ABC Radio team\, take a look around their new premises and take your chance to appear on the radio.
URL:https://www.saxmundham.org/event/hettie-judah-in-conversation-with-jennifer-pitchers-kristina-tonev-anna-ilsley-followed-by-a-book-signing-how-to-enter-the-art-world-after/
LOCATION:The Old Bank\, The Old Bank\, Saxmundham\, Suffolk\, IP17 1AE\, United Kingdom
ATTACH;FMTTYPE=image/jpeg:https://www.saxmundham.org/wp-content/uploads/2026/04/TAS_TML_TALK_HettieJudah_Poster_A3_TO_PRINT_v2-scaled.jpg
ORGANIZER;CN="Art%20Station":MAILTO:verity@theartstation.uk
END:VEVENT
BEGIN:VEVENT
DTSTART;TZID=UTC:20260507T140000
DTEND;TZID=UTC:20261001T160000
DTSTAMP:20260424T123544
CREATED:20260408T133240Z
LAST-MODIFIED:20260421T094438Z
UID:23456-1778162400-1790870400@www.saxmundham.org
SUMMARY:DRAW GREEN led by Jevan Watkins Jones
DESCRIPTION:Meet the ABC Radio team\, take a look around their new premises and take your chance to appear on the radio.
URL:https://www.saxmundham.org/event/draw-green-led-by-jevan-watkins-jones/
LOCATION:The Art Station Garden\, The Old Bank\, Saxmundham\, IP17 1AE\, United Kingdom
ATTACH;FMTTYPE=image/jpeg:https://www.saxmundham.org/wp-content/uploads/2026/04/life-drawing-Old-Bank-gardens-1-scaled.jpg
ORGANIZER;CN="Art%20Station":MAILTO:verity@theartstation.uk
END:VEVENT
END:VCALENDAR