BEGIN:VCALENDAR
VERSION:2.0
PRODID:-//Saxmundham - ECPv5.14.1//NONSGML v1.0//EN
CALSCALE:GREGORIAN
METHOD:PUBLISH
X-WR-CALNAME:Saxmundham
X-ORIGINAL-URL:https://www.saxmundham.org
X-WR-CALDESC:Events for Saxmundham
REFRESH-INTERVAL;VALUE=DURATION:PT1H
X-Robots-Tag:noindex
X-PUBLISHED-TTL:PT1H
BEGIN:VTIMEZONE
TZID:UTC
BEGIN:STANDARD
TZOFFSETFROM:+0000
TZOFFSETTO:+0000
TZNAME:UTC
DTSTART:20260101T000000
END:STANDARD
END:VTIMEZONE
BEGIN:VEVENT
DTSTART;TZID=UTC:20260507T140000
DTEND;TZID=UTC:20261001T160000
DTSTAMP:20260425T152157
CREATED:20260408T133240Z
LAST-MODIFIED:20260421T094438Z
UID:23456-1778162400-1790870400@www.saxmundham.org
SUMMARY:DRAW GREEN led by Jevan Watkins Jones
DESCRIPTION:If you like drawing or want to give it a go\, this is the monthly meet up for you! Join artist Jevan Watkins Jones at The Art Station Garden for fair weather fun of the drawing kind\, with led creative tasks and time to be in the garden. \nBasic drawing materials are provided as well as portable chairs\nPlaces are FREE but please book in as places are limited \nDraw Green dates:\n7th May: 2-4pm\n4th June: 2-4pm\n2nd July: 2-4pm\n6th August: 2-4pm\n3rd September: 2-4pm\n1st October: 2-4pm \nAll sessions take place in The Art Station Garden\, 24 High Street\, Saxmundham \nAll enquiries to jevan@theartstation.uk
URL:https://www.saxmundham.org/event/draw-green-led-by-jevan-watkins-jones/
LOCATION:The Art Station Garden\, The Old Bank\, Saxmundham\, IP17 1AE\, United Kingdom
ATTACH;FMTTYPE=image/jpeg:https://www.saxmundham.org/wp-content/uploads/2026/04/life-drawing-Old-Bank-gardens-1-scaled.jpg
ORGANIZER;CN="Art%20Station":MAILTO:verity@theartstation.uk
END:VEVENT
BEGIN:VEVENT
DTSTART;TZID=UTC:20260507T140000
DTEND;TZID=UTC:20261001T160000
DTSTAMP:20260425T152157
CREATED:20260408T133246Z
LAST-MODIFIED:20260421T094502Z
UID:23459-1778162400-1790870400@www.saxmundham.org
SUMMARY:DRAW GREEN led by Jevan Watkins Jones
DESCRIPTION:If you like drawing or want to give it a go\, this is the monthly meet up for you! Join artist Jevan Watkins Jones at The Art Station Garden for fair weather fun of the drawing kind\, with led creative tasks and time to be in the garden. \nBasic drawing materials are provided as well as portable chairs\nPlaces are FREE but please book in as places are limited \nDraw Green dates:\n7th May: 2-4pm\n4th June: 2-4pm\n2nd July: 2-4pm\n6th August: 2-4pm\n3rd September: 2-4pm\n1st October: 2-4pm \nAll sessions take place in The Art Station Garden\, 24 High Street\, Saxmundham \nAll enquiries to jevan@theartstation.uk
URL:https://www.saxmundham.org/event/draw-green-led-by-jevan-watkins-jones-2/
LOCATION:The Art Station Garden\, The Old Bank\, Saxmundham\, IP17 1AE\, United Kingdom
ATTACH;FMTTYPE=image/jpeg:https://www.saxmundham.org/wp-content/uploads/2026/04/life-drawing-Old-Bank-gardens-1-1-scaled.jpg
ORGANIZER;CN="Art%20Station":MAILTO:verity@theartstation.uk
END:VEVENT
BEGIN:VEVENT
DTSTART;TZID=UTC:20260508T143000
DTEND;TZID=UTC:20260508T163000
DTSTAMP:20260425T152157
CREATED:20260413T091608Z
LAST-MODIFIED:20260421T094508Z
UID:23465-1778250600-1778257800@www.saxmundham.org
SUMMARY:Reflex Theatre presents Call Me John
DESCRIPTION:John is worried he will be forgotten after he’s passed on. When his troubled grandson comes to visit\, he decides to share his life story\, hoping to inspire him. But can John’s history really connect with the “youth of today”? \nReflex Theatre revives this local tale of love\, conflict\, loss and hope that spans generations and beyond. \nNominated for two 2024 Norfolk Arts Awards (New Writing & Theatre Award) \nThere will be a post-show discussion with the cast and director after the performance. \n“Captivating. Wonderful storytelling and acting.” East Anglian Theatre Podcast \n“A brilliant\, beautiful play of such poignance…” Peter Steward \n“Neatly crafted\, a charming and gentle play…” Cultivated \nThis production has been made possible with funding from Alan Boswell Charitable Trust\, East Suffolk Council\, Hornsea 3 Community Fund and Norfolk Community Foundation.
URL:https://www.saxmundham.org/event/reflex-theatre-presents-call-me-john/
LOCATION:Saxmundham Market Hall\, High Street\, Saxmundham\, IP171AF\, United Kingdom
ATTACH;FMTTYPE=image/png:https://www.saxmundham.org/wp-content/uploads/2026/04/Hero-Square.png
ORGANIZER;CN="Reflex%20Theatre":MAILTO:info@reflextheatre.co.uk
END:VEVENT
BEGIN:VEVENT
DTSTART;TZID=UTC:20260508T193000
DTEND;TZID=UTC:20260508T213000
DTSTAMP:20260425T152157
CREATED:20260413T091702Z
LAST-MODIFIED:20260421T094531Z
UID:23468-1778268600-1778275800@www.saxmundham.org
SUMMARY:Reflex Theatre presents Call Me John
DESCRIPTION:John is worried he will be forgotten after he’s passed on. When his troubled grandson comes to visit\, he decides to share his life story\, hoping to inspire him. But can John’s history really connect with the “youth of today”? \nReflex Theatre revives this local tale of love\, conflict\, loss and hope that spans generations and beyond. \nNominated for two 2024 Norfolk Arts Awards (New Writing & Theatre Award) \nThere will be a post-show discussion with the cast and director after the performance. \n“Captivating. Wonderful storytelling and acting.” East Anglian Theatre Podcast \n“A brilliant\, beautiful play of such poignance…” Peter Steward \n“Neatly crafted\, a charming and gentle play…” Cultivated \nThis production has been made possible with funding from Alan Boswell Charitable Trust\, East Suffolk Council\, Hornsea 3 Community Fund and Norfolk Community Foundation.
URL:https://www.saxmundham.org/event/reflex-theatre-presents-call-me-john-2/
LOCATION:Saxmundham Market Place
ATTACH;FMTTYPE=image/png:https://www.saxmundham.org/wp-content/uploads/2026/04/Hero-Square-1.png
ORGANIZER;CN="Reflex%20Theatre":MAILTO:info@reflextheatre.co.uk
END:VEVENT
BEGIN:VEVENT
DTSTART;TZID=UTC:20260509T090000
DTEND;TZID=UTC:20260509T150000
DTSTAMP:20260425T152157
CREATED:20260217T145704Z
LAST-MODIFIED:20260217T145704Z
UID:23212-1778317200-1778338800@www.saxmundham.org
SUMMARY:Saxmundham Saturday Market - May
DESCRIPTION:Artisan monthly market in the picturesque surroundings of Fromus Square. Featuring a range of stalls selling local and artisan products. \nInterested stallholders are invited to contact deputytownclerk@saxmundham-tc.gov.uk or book via Eventbrite.
URL:https://www.saxmundham.org/event/saxmundham-saturday-market-3-2-2-2/
LOCATION:Fromus Square\, IP17 1DD
ATTACH;FMTTYPE=image/png:https://www.saxmundham.org/wp-content/uploads/2026/02/2.png
ORGANIZER;CN="Saxmundham%20Town%20Council":MAILTO:townclerk@saxmundham-tc.gov.uk
END:VEVENT
BEGIN:VEVENT
DTSTART;TZID=UTC:20260807T120000
DTEND;TZID=UTC:20260809T200000
DTSTAMP:20260425T152157
CREATED:20260310T170529Z
LAST-MODIFIED:20260310T170529Z
UID:23243-1786104000-1786305600@www.saxmundham.org
SUMMARY:Sax Fest
DESCRIPTION:Following the success of the 2025 festival\, which saw the biggest turnout to date and brought the town together in a celebration of music\, arts and local talent\, the Saxmundham Community Festival team is pleased to announce the dates for its 2026 event.\nThe festival will return on Friday 7th and Saturday 8th August\, both free to attend\, and\, due to popular demand\, an additional day has been added for 2026. Sunday 9th August will round off the weekend.\nTerry Barrow\, organiser of the festival\, said: “Last year’s festival exceeded all expectations\, and the support from the community was fantastic. With so many people asking for more\, we’re pleased to be extending the 2026 event to three days. We’re already working on a programme that reflects the best of Saxmundham.”\nThe festival received three years of grant support from the Sizewell C Community Fund in 2025\, along with continued backing from Saxmundham Town Council\, giving the team the stability and resources needed to focus on delivering an unforgettable festival experience in 2026 and 2027 suitable for people and families of all ages and music to suit.\nFurther details\, including the full programme and additional dates for fringe activities\, will be announced in the coming months. Organisers are already working with local groups\, performers and businesses to build on the energy and enthusiasm that made the 2025 festival such a standout moment for the town.\nSaxFest 2025 – Important Info!\nJust a quick reminder to help everyone enjoy the festival safely and smoothly:\n– 🐶 No dogs allowed (except registered assistance dogs)\n– 🚫 No alcohol or glass items may be brought onto site\n– 🍻 Only alcohol purchased at SaxFest may be consumed at the event\n– 🆔 If you’re lucky enough to look under 25\, please bring valid ID\n– 👨‍👩‍👧 Children under 16 must be accompanied by an adult (18+)\n– 👜 All bags will be searched on entry\nThanks for your cooperation\, let’s make it a brilliant SaxFest.
URL:https://www.saxmundham.org/event/sax-fest/
LOCATION:Saxmundham Memorial Field\, Rendham Road\, Saxmundham\, Suffolk\, IP17 1EA\, United Kingdom
ATTACH;FMTTYPE=image/jpeg:https://www.saxmundham.org/wp-content/uploads/2026/02/img001.jpg
ORGANIZER;CN="Saxmundham%20Music%20%26amp%3Bamp%3B%20Arts%20CIC":MAILTO:admin@saxmusicfest.co.uk
END:VEVENT
BEGIN:VEVENT
DTSTART;TZID=UTC:20260812T110000
DTEND;TZID=UTC:20260812T130000
DTSTAMP:20260425T152157
CREATED:20260324T121321Z
LAST-MODIFIED:20260324T163719Z
UID:23419-1786532400-1786539600@www.saxmundham.org
SUMMARY:Wednesdays with Wellbeing
DESCRIPTION:
URL:https://www.saxmundham.org/event/wednesdays-with-wellbeing/
LOCATION:Rose House\, Street Farm Road\, Saxmundham\, Suffolk\, IP17 1AL\, United Kingdom
ATTACH;FMTTYPE=image/png:https://www.saxmundham.org/wp-content/uploads/2026/03/August-26-Wednesday-with-Wellbeing-Saxmundham-poster-FINAL-.png
ORGANIZER;CN="NHS%20Wellbeing":MAILTO:suffolk.communityteam@nsft.nhs.uk
END:VEVENT
BEGIN:VEVENT
DTSTART;TZID=UTC:20261205T150000
DTEND;TZID=UTC:20261205T190000
DTSTAMP:20260425T152157
CREATED:20260202T110907Z
LAST-MODIFIED:20260202T121812Z
UID:23123-1796482800-1796497200@www.saxmundham.org
SUMMARY:Saxmundham Christmas Fayre 2026
DESCRIPTION:🎄 Saxmundham’s Annual Christmas Fayre\nJoin us for a magical day of festive fun in the heart of Saxmundham!Enjoy an extensive street market\, festive lights switch-on\, Santa’s Grotto\, indoor craft fair\, street and stage performances\, hot food\, children’s activities\, and much more. \n✨ Save the Date – More information to follow\n\nFor Stallholders\nWe’re welcoming applications from all types of stallholders for this year’s event\, with indoor and outdoor spaces available.Please note: power is not supplied\, so stalls must be able to operate off-grid. \n🔗 Visit our Markets page for more information or📧 Email community@saxmundham-tc.gov.uk to get involved.
URL:https://www.saxmundham.org/event/saxmundham-christmas-fayre-3/
LOCATION:Saxmundham Town Centre
ATTACH;FMTTYPE=image/png:https://www.saxmundham.org/wp-content/uploads/2026/02/Save-the-Date-Christmas-2026-Insta-Ratio.png
ORGANIZER;CN="Saxmundham%20Town%20Council":MAILTO:townclerk@saxmundham-tc.gov.uk
END:VEVENT
END:VCALENDAR