BEGIN:VCALENDAR
VERSION:2.0
PRODID:-//Saxmundham - ECPv5.14.1//NONSGML v1.0//EN
CALSCALE:GREGORIAN
METHOD:PUBLISH
X-WR-CALNAME:Saxmundham
X-ORIGINAL-URL:https://www.saxmundham.org
X-WR-CALDESC:Events for Saxmundham
REFRESH-INTERVAL;VALUE=DURATION:PT1H
X-Robots-Tag:noindex
X-PUBLISHED-TTL:PT1H
BEGIN:VTIMEZONE
TZID:UTC
BEGIN:STANDARD
TZOFFSETFROM:+0000
TZOFFSETTO:+0000
TZNAME:UTC
DTSTART:20240101T000000
END:STANDARD
END:VTIMEZONE
BEGIN:VEVENT
DTSTART;TZID=UTC:20241109T200000
DTEND;TZID=UTC:20241109T230000
DTSTAMP:20260420T045348
CREATED:20240829T101031Z
LAST-MODIFIED:20240829T101031Z
UID:17585-1731182400-1731193200@www.saxmundham.org
SUMMARY:Market Hall Dances - Market Hall\, Saxmundham - IP17 1AF
DESCRIPTION:Dance with Les Hirondelles\nIf you have never tried French or Breton dancing before why not come along and give it a go\, for most of the dances you do not require a partner and some are fairly simple to pick up. Most towns in Brittany have a fest noz in the summer often weekly where the whole community meets up\, dances\, socialises and has a drink or two. There will be lots of people who will show you the steps. It appeals to both young and old\, if you don’t fancy dancing\, come along and just enjoy the wonderful music. Bringing a slice of Brittany to Saxmundham. \nLes Hirondelles\nThis band joined us last season and it was a cracking night!\nLes Hirondelles formed following an encounter at the Folk East Sandlings sessions in February 2018\, to play french and breton music. Drawing influences from the English\, European and Irish folk traditions\, indie and classical music. They have a unique driving sound and innovative arrangements aimed to get everyone on their feet. Emma Hardy and Pete Sewell (fiddles)\, Vicky Lambert (flute and whistle) and Tom hardy (guitar).\nPete and Vicky were the organisers of Bungay Folk Festival held on 6th\, 7th and 8th September.
URL:https://www.saxmundham.org/event/market-hall-dances-market-hall-saxmundham-ip17-1af-3/
LOCATION:Saxmundham Market Hall\, High Street\, Saxmundham\, IP171AF\, United Kingdom
ATTACH;FMTTYPE=image/jpeg:https://www.saxmundham.org/wp-content/uploads/2024/08/Hirondelles-at-bal.jpg
ORGANIZER;CN="On%20y%20va%21%20French%20and%20Breton%20Dance%20Club":MAILTO:frenchdancer2004@yahoo.co.uk
END:VEVENT
BEGIN:VEVENT
DTSTART;TZID=UTC:20241207T150000
DTEND;TZID=UTC:20241207T190000
DTSTAMP:20260420T045348
CREATED:20240205T122841Z
LAST-MODIFIED:20241206T124937Z
UID:15433-1733583600-1733598000@www.saxmundham.org
SUMMARY:Saxmundham Christmas Fayre
DESCRIPTION:The historical market town of Saxmundham hosts a spectacular annual Chrismtas Fayre! Visitors come from all over the region to attend our bustling street market\, artisan craft market and enjoy festive activities and performances. \nIf you would like to book a stall\, please visit our Eventbrite listings
URL:https://www.saxmundham.org/event/saxmundham-artisan-market-2-2-2-2-2-2-2-2/
LOCATION:Saxmundham Market Hall\, High Street\, Saxmundham\, IP171AF\, United Kingdom
ATTACH;FMTTYPE=image/png:https://www.saxmundham.org/wp-content/uploads/2024/02/SAXMUNDHAM-MARKET.png
ORGANIZER;CN="Saxmundham%20Town%20Council":MAILTO:townclerk@saxmundham-tc.gov.uk
END:VEVENT
BEGIN:VEVENT
DTSTART;TZID=UTC:20250118T200000
DTEND;TZID=UTC:20250118T230000
DTSTAMP:20260420T045348
CREATED:20240829T101448Z
LAST-MODIFIED:20240829T101448Z
UID:17587-1737230400-1737241200@www.saxmundham.org
SUMMARY:Market Hall Dances - Market Hall\, Saxmundham - IP17 1AF
DESCRIPTION:Dave Shepherd and Anna Pack\nIf you have never tried French or Breton dancing before why not come along and give it a go\, for most of the dances you do not require a partner and some are fairly simple to pick up. Most towns in Brittany have a fest noz in the summer often weekly where the whole community meets up\, dances\, socialises and has a drink or two. There will be lots of people who will show you the steps. It appeals to both young and old\, if you don’t fancy dancing\, come along and just enjoy the wonderful music. Bringing a slice of Brittany to Saxmundham. \nDave Shepherd and Anna Pack\nBoth these musicians are returning to play for us again\, but this time as a duo. Anna Pack (Oscina) and Dave Shepherd (duo Shepherd/Gielen) have been playing together for over a decade. Their style combines Anna’s signature rhythmical box playing and Dave’s melody-driven fiddle lines. They both have extensive experience of the European folk scene.\nDave is currently touring with Blowzabella. \nTickets: £10 paid in advance or £12 on the door\nContact: Monica – frenchdance2006@yahoo.co.uk or Lin -07919188549
URL:https://www.saxmundham.org/event/market-hall-dances-market-hall-saxmundham-ip17-1af-4/
LOCATION:Saxmundham Market Hall\, High Street\, Saxmundham\, IP171AF\, United Kingdom
ATTACH;FMTTYPE=image/jpeg:https://www.saxmundham.org/wp-content/uploads/2024/08/Dave-and-Anna.jpeg
ORGANIZER;CN="On%20y%20va%21%20French%20and%20Breton%20Dance%20Club":MAILTO:frenchdancer2004@yahoo.co.uk
END:VEVENT
BEGIN:VEVENT
DTSTART;TZID=UTC:20250131T094500
DTEND;TZID=UTC:20250131T103000
DTSTAMP:20260420T045348
CREATED:20250113T122554Z
LAST-MODIFIED:20250113T123456Z
UID:18882-1738316700-1738319400@www.saxmundham.org
SUMMARY:Finding Your Feet - safer falls course
DESCRIPTION:
URL:https://www.saxmundham.org/event/finding-your-feet-safer-falls-course/
LOCATION:Saxmundham Market Hall\, High Street\, Saxmundham\, IP171AF\, United Kingdom
ATTACH;FMTTYPE=image/png:https://www.saxmundham.org/wp-content/uploads/2025/01/Finding-your-feet-advert-1.png
ORGANIZER;CN="Saxmundham%20Judo%20Club":MAILTO:judokeef@gmail.com
END:VEVENT
BEGIN:VEVENT
DTSTART;TZID=UTC:20250207T094500
DTEND;TZID=UTC:20250207T103000
DTSTAMP:20260420T045348
CREATED:20250107T094529Z
LAST-MODIFIED:20250113T123645Z
UID:18891-1738921500-1738924200@www.saxmundham.org
SUMMARY:Finding Your Feet - safer falls course
DESCRIPTION:Gain confidence\, improve your balancee.
URL:https://www.saxmundham.org/event/finding-your-feet-safer-falls-course-2/
LOCATION:Saxmundham Market Hall\, High Street\, Saxmundham\, IP171AF\, United Kingdom
ATTACH;FMTTYPE=image/png:https://www.saxmundham.org/wp-content/uploads/2025/01/Finding-your-feet-advert-1.png
ORGANIZER;CN="Saxmundham%20Judo%20Club":MAILTO:judokeef@gmail.com
END:VEVENT
BEGIN:VEVENT
DTSTART;TZID=UTC:20250214T094500
DTEND;TZID=UTC:20250214T103000
DTSTAMP:20260420T045348
CREATED:20250113T123729Z
LAST-MODIFIED:20250113T123729Z
UID:18894-1739526300-1739529000@www.saxmundham.org
SUMMARY:Finding Your Feet - safer falls course
DESCRIPTION:Gain confidence\, improve your balancee.
URL:https://www.saxmundham.org/event/finding-your-feet-safer-falls-course-2-2/
LOCATION:Saxmundham Market Hall\, High Street\, Saxmundham\, IP171AF\, United Kingdom
ATTACH;FMTTYPE=image/png:https://www.saxmundham.org/wp-content/uploads/2025/01/Finding-your-feet-advert-1.png
ORGANIZER;CN="Saxmundham%20Judo%20Club":MAILTO:judokeef@gmail.com
END:VEVENT
BEGIN:VEVENT
DTSTART;TZID=UTC:20250221T094500
DTEND;TZID=UTC:20250221T103000
DTSTAMP:20260420T045348
CREATED:20250113T123813Z
LAST-MODIFIED:20250113T123813Z
UID:18896-1740131100-1740133800@www.saxmundham.org
SUMMARY:Finding Your Feet - safer falls course
DESCRIPTION:Gain confidence\, improve your balancee.
URL:https://www.saxmundham.org/event/finding-your-feet-safer-falls-course-2-2-2/
LOCATION:Saxmundham Market Hall\, High Street\, Saxmundham\, IP171AF\, United Kingdom
ATTACH;FMTTYPE=image/png:https://www.saxmundham.org/wp-content/uploads/2025/01/Finding-your-feet-advert-1.png
ORGANIZER;CN="Saxmundham%20Judo%20Club":MAILTO:judokeef@gmail.com
END:VEVENT
BEGIN:VEVENT
DTSTART;TZID=UTC:20250228T094500
DTEND;TZID=UTC:20250228T103000
DTSTAMP:20260420T045348
CREATED:20250113T123842Z
LAST-MODIFIED:20250113T123842Z
UID:18898-1740735900-1740738600@www.saxmundham.org
SUMMARY:Finding Your Feet - safer falls course
DESCRIPTION:Gain confidence\, improve your balancee.
URL:https://www.saxmundham.org/event/finding-your-feet-safer-falls-course-2-2-2-2/
LOCATION:Saxmundham Market Hall\, High Street\, Saxmundham\, IP171AF\, United Kingdom
ATTACH;FMTTYPE=image/png:https://www.saxmundham.org/wp-content/uploads/2025/01/Finding-your-feet-advert-1.png
ORGANIZER;CN="Saxmundham%20Judo%20Club":MAILTO:judokeef@gmail.com
END:VEVENT
BEGIN:VEVENT
DTSTART;TZID=UTC:20250307T094500
DTEND;TZID=UTC:20250307T103000
DTSTAMP:20260420T045348
CREATED:20250113T123922Z
LAST-MODIFIED:20250113T123922Z
UID:18900-1741340700-1741343400@www.saxmundham.org
SUMMARY:Finding Your Feet - safer falls course
DESCRIPTION:Gain confidence\, improve your balancee.
URL:https://www.saxmundham.org/event/finding-your-feet-safer-falls-course-2-2-2-2-2/
LOCATION:Saxmundham Market Hall\, High Street\, Saxmundham\, IP171AF\, United Kingdom
ATTACH;FMTTYPE=image/png:https://www.saxmundham.org/wp-content/uploads/2025/01/Finding-your-feet-advert-1.png
ORGANIZER;CN="Saxmundham%20Judo%20Club":MAILTO:judokeef@gmail.com
END:VEVENT
BEGIN:VEVENT
DTSTART;TZID=UTC:20250308T200000
DTEND;TZID=UTC:20250308T230000
DTSTAMP:20260420T045349
CREATED:20240829T091818Z
LAST-MODIFIED:20240829T091818Z
UID:17589-1741464000-1741474800@www.saxmundham.org
SUMMARY:Market Hall Dances - Market Hall\, Saxmundham - IP17 1AF
DESCRIPTION:Bof!\nIf you have never tried French or Breton dancing before why not come along and give it a go\, for most of the dances you do not require a partner and some are fairly simple to pick up. Most towns in Brittany have a fest noz in the summer often weekly where the whole community meets up\, dances\, socialises and has a drink or two. There will be lots of people who will show you the steps. It appeals to both young and old\, if you don’t fancy dancing\, come along and just enjoy the wonderful music. Bringing a slice of Brittany to Saxmundham. \nBof!\nIn 2000 Bof! started playing as a four piece band specialising in traditional French and Breton music for dancing and listening to. During this time they have played in folk clubs\, for dance groups and at festivals in England and France. The band’s repertoire is mainly traditional music from Central France and Brittany\, but also include compositions by members of the band and others. Bof line up: Gwendal Moele (vocals)\, Val Woollard (bagpipes\, Recorder\, Flute\, Desk bells)\, Simon Haines (diatonic accordeons\, vocals)\, Phil Lyons (acoustic guitar\, bass guitar and vocals) \nTickets: £10 paid in advance and £12 on the door\nContact: Monica – frenchdancer2006@yahoo.co.uk or Lin – 07919188549
URL:https://www.saxmundham.org/event/market-hall-dances-market-hall-saxmundham-ip17-1af/
LOCATION:Saxmundham Market Hall\, High Street\, Saxmundham\, IP171AF\, United Kingdom
ATTACH;FMTTYPE=image/jpeg:https://www.saxmundham.org/wp-content/uploads/2024/08/Bof.jpg
ORGANIZER;CN="On%20y%20va%21%20French%20and%20Breton%20Dance%20Club":MAILTO:frenchdancer2004@yahoo.co.uk
END:VEVENT
BEGIN:VEVENT
DTSTART;TZID=UTC:20250314T094500
DTEND;TZID=UTC:20250314T103000
DTSTAMP:20260420T045349
CREATED:20250113T123952Z
LAST-MODIFIED:20250113T123952Z
UID:18902-1741945500-1741948200@www.saxmundham.org
SUMMARY:Finding Your Feet - safer falls course
DESCRIPTION:Gain confidence\, improve your balancee.
URL:https://www.saxmundham.org/event/finding-your-feet-safer-falls-course-2-2-2-2-2-2/
LOCATION:Saxmundham Market Hall\, High Street\, Saxmundham\, IP171AF\, United Kingdom
ATTACH;FMTTYPE=image/png:https://www.saxmundham.org/wp-content/uploads/2025/01/Finding-your-feet-advert-1.png
ORGANIZER;CN="Saxmundham%20Judo%20Club":MAILTO:judokeef@gmail.com
END:VEVENT
BEGIN:VEVENT
DTSTART;TZID=UTC:20250503T140000
DTEND;TZID=UTC:20250503T170000
DTSTAMP:20260420T045349
CREATED:20250424T094136Z
LAST-MODIFIED:20250424T164225Z
UID:20533-1746280800-1746291600@www.saxmundham.org
SUMMARY:Poor Form
DESCRIPTION:Poor Form solo exhibition by Karen Densham at The Art Station\nExhibition opens on Saturday 3rd May – 28th June 2025 \nOpening event: Saturday 3rd May 3pm – 5pm \nOpen daily\, Monday – Saturday\, 10am – 4pm \nVenue: The Old Bank\, The Art Station\, Saxmundham\, Suffolk  \nThe Art Station is proud to present Poor Form\, a solo exhibition by acclaimed sculptor Karen Densham\, opening on 3rd May 2025 at The Old Bank\, Saxmundham. \nThis new body of work brings an innovative and provocative approach to ceramic sculpture\, redefining traditional boundaries with wit and satire.  \nCurated by Clare Palmier\, Director of The Art Station\, in collaboration with the artist\, Poor Form expands on Densham’s 37-year practice\, which subverts the conventions of ceramic art. This exhibition continues The Art Station’s commitment to showcasing contemporary sculptural practice that challenges perceptions of craft and fine art.
URL:https://www.saxmundham.org/event/poor-form/
LOCATION:The Old Bank\, The Old Bank\, Saxmundham\, Suffolk\, IP17 1AE\, United Kingdom
ORGANIZER;CN="Art%20Station":MAILTO:verity@theartstation.uk
END:VEVENT
BEGIN:VEVENT
DTSTART;TZID=UTC:20250508T100000
DTEND;TZID=UTC:20250508T160000
DTSTAMP:20260420T045349
CREATED:20250422T133936Z
LAST-MODIFIED:20250422T133936Z
UID:20354-1746698400-1746720000@www.saxmundham.org
SUMMARY:Join Us in our 80th anniversary VE Day Celebrations
DESCRIPTION:Thursday 8th May marks the 80th anniversary of VE Day. The Museum has joined forces with Saxmundham WI and the local Poppy Appeal for a special day to celebrate events of 80 years ago.\nA new display board has been produced for the event and there will be films and music from the 1940s to get you in the swing. Saxmundham WI have kindly agreed to provide refreshments.\nThe Museum will be open from 10.00am – 4.00pm for the occasion\, so do come along and join in the fun.
URL:https://www.saxmundham.org/event/join-us-in-our-80th-anniversary-ve-day-celebrations/
LOCATION:Saxmundham Museum\, 49 High Street\, Saxmundham\, Suffolk\, IP17 1AJ
END:VEVENT
BEGIN:VEVENT
DTSTART;TZID=UTC:20250510T100000
DTEND;TZID=UTC:20250510T130000
DTSTAMP:20260420T045349
CREATED:20250423T102342Z
LAST-MODIFIED:20250423T102342Z
UID:20529-1746871200-1746882000@www.saxmundham.org
SUMMARY:Saxmundham VE Day Community Picnic
DESCRIPTION:
URL:https://www.saxmundham.org/event/saxmundham-ve-day-community-picnic/
LOCATION:Fromus Square\, IP17 1DD
ATTACH;FMTTYPE=image/png:https://www.saxmundham.org/wp-content/uploads/2025/04/VE-DAY-Picnic-10.05.25.png
ORGANIZER;CN="Saxmundham%20Town%20Council":MAILTO:townclerk@saxmundham-tc.gov.uk
END:VEVENT
BEGIN:VEVENT
DTSTART;TZID=UTC:20250522T143000
DTEND;TZID=UTC:20250522T170000
DTSTAMP:20260420T045349
CREATED:20250515T143143Z
LAST-MODIFIED:20250515T144124Z
UID:20826-1747924200-1747933200@www.saxmundham.org
SUMMARY:Suffolk Films - Saxmundham History Society
DESCRIPTION:
URL:https://www.saxmundham.org/event/suffolk-films-saxmundham-history-society/
LOCATION:United Reform Church\, Chapel Road\, IP17 1BJ\, United Kingdom
END:VEVENT
BEGIN:VEVENT
DTSTART;TZID=UTC:20250522T180000
DTEND;TZID=UTC:20250522T203000
DTSTAMP:20260420T045349
CREATED:20250521T135002Z
LAST-MODIFIED:20250521T135436Z
UID:20891-1747936800-1747945800@www.saxmundham.org
SUMMARY:Saxmundham Annual Town Meeting
DESCRIPTION:
URL:https://www.saxmundham.org/event/saxmundham-annual-town-meeting/
LOCATION:Saxmundham Market Hall\, High Street\, Saxmundham\, IP171AF\, United Kingdom
ATTACH;FMTTYPE=image/png:https://www.saxmundham.org/wp-content/uploads/2025/05/Annual-Town-Meeting-2025-1.png
ORGANIZER;CN="Saxmundham%20Town%20Council":MAILTO:townclerk@saxmundham-tc.gov.uk
END:VEVENT
BEGIN:VEVENT
DTSTART;TZID=UTC:20250604T100000
DTEND;TZID=UTC:20250604T120000
DTSTAMP:20260420T045349
CREATED:20250526T123316Z
LAST-MODIFIED:20250526T124419Z
UID:20953-1749031200-1749038400@www.saxmundham.org
SUMMARY:Participate Music Club
DESCRIPTION:Come and explore objects and music with our friendly team of workshop leaders and musicians. These sessions will bring you together with others in your local community\, providing an opportunity to take part in activities and connect over tea and cake. Sessions last for two hours and tea and cake is provided. No musical experience is necessary. Sessions are free to attend – just show up! Our team are trained to ensure these workshops are suitable for those living with long term health conditions\, including dementia and Parkinson’s.
URL:https://www.saxmundham.org/event/participate-music-club-2025/
LOCATION:Saxmundham Market Hall\, High Street\, Saxmundham\, IP171AF\, United Kingdom
ATTACH;FMTTYPE=image/png:https://www.saxmundham.org/wp-content/uploads/2024/02/Participate-Saxmundham-1.png
END:VEVENT
BEGIN:VEVENT
DTSTART;TZID=UTC:20250604T153000
DTEND;TZID=UTC:20250604T163000
DTSTAMP:20260420T045349
CREATED:20250522T150459Z
LAST-MODIFIED:20250522T151043Z
UID:20898-1749051000-1749054600@www.saxmundham.org
SUMMARY:Finding Your Feet - Open Afternoon
DESCRIPTION:
URL:https://www.saxmundham.org/event/finding-your-feet-open-afternoon/
LOCATION:Saxmundham Market Hall\, High Street\, Saxmundham\, IP171AF\, United Kingdom
ATTACH;FMTTYPE=image/png:https://www.saxmundham.org/wp-content/uploads/2025/05/Finding-your-feet-advert-1.png
ORGANIZER;CN="Saxmundham%20Judo%20Club":MAILTO:judokeef@gmail.com
END:VEVENT
BEGIN:VEVENT
DTSTART;TZID=UTC:20250605T190000
DTEND;TZID=UTC:20250605T210000
DTSTAMP:20260420T045349
CREATED:20250526T094805Z
LAST-MODIFIED:20250526T095149Z
UID:20921-1749150000-1749157200@www.saxmundham.org
SUMMARY:A Social Wine Tasting
DESCRIPTION:An evening of tasting and talking with Jack from The Modest Merchant.  Please book tickets in advance using the link or by scanning the QR code – Socialbar will be closed to the public on the Thursday of the event.
URL:https://www.saxmundham.org/event/a-social-wine-tasting/
LOCATION:Socialbar\, Saxmundham\, 15 high Street\, Saxmundham\, Suffolk\, IP17 1DF\, United Kingdom
ORGANIZER;CN="Socialbar":MAILTO:hello@visitsocialbar.com
END:VEVENT
BEGIN:VEVENT
DTSTART;TZID=UTC:20250608T150000
DTEND;TZID=UTC:20250608T170000
DTSTAMP:20260420T045349
CREATED:20250526T095944Z
LAST-MODIFIED:20250526T102243Z
UID:20928-1749394800-1749402000@www.saxmundham.org
SUMMARY:Wild About Kelsale
DESCRIPTION:A fun afternoon for the family. Bring a picnic and enjoy nature crafts with Kelsale nature explorers.  \nActivities include making a textile leaf print with Tiggins Meadow\, using a flower press\, mini nature trail with KADWAG\, creative crafts and bird and insect spotting. \n Free entry.  \nParking in Kelsale Village Hall Car Park. WildAbout Kelsale-cum-Calton. Sunday 8 June. 3-5pm on Kelsale Rec Ground in the wild area.
URL:https://www.saxmundham.org/event/wild-about-kelsale/
LOCATION:Kelsale Recreation Grounds\, Bridge Street\, Kelsale\, Suffolk\, United Kingdom
END:VEVENT
BEGIN:VEVENT
DTSTART;TZID=UTC:20250611T153000
DTEND;TZID=UTC:20250611T163000
DTSTAMP:20260420T045349
CREATED:20250522T151342Z
LAST-MODIFIED:20250522T151556Z
UID:20901-1749655800-1749659400@www.saxmundham.org
SUMMARY:Finding Your Feet
DESCRIPTION:
URL:https://www.saxmundham.org/event/finding-your-feet-open-afternoon-2/
LOCATION:Saxmundham Market Hall\, High Street\, Saxmundham\, IP171AF\, United Kingdom
ATTACH;FMTTYPE=image/png:https://www.saxmundham.org/wp-content/uploads/2025/05/Finding-your-feet-advert-1.png
ORGANIZER;CN="Saxmundham%20Judo%20Club":MAILTO:judokeef@gmail.com
END:VEVENT
BEGIN:VEVENT
DTSTART;TZID=UTC:20250618T153000
DTEND;TZID=UTC:20250618T163000
DTSTAMP:20260420T045349
CREATED:20250522T151810Z
LAST-MODIFIED:20250522T151810Z
UID:20905-1750260600-1750264200@www.saxmundham.org
SUMMARY:Finding Your Feet
DESCRIPTION:
URL:https://www.saxmundham.org/event/finding-your-feet-open-afternoon-2-2/
LOCATION:Saxmundham Market Hall\, High Street\, Saxmundham\, IP171AF\, United Kingdom
ATTACH;FMTTYPE=image/png:https://www.saxmundham.org/wp-content/uploads/2025/05/Finding-your-feet-advert-1.png
ORGANIZER;CN="Saxmundham%20Judo%20Club":MAILTO:judokeef@gmail.com
END:VEVENT
BEGIN:VEVENT
DTSTART;TZID=UTC:20250629T120000
DTEND;TZID=UTC:20250701T000000
DTSTAMP:20260420T045349
CREATED:20250609T093514Z
LAST-MODIFIED:20250609T101428Z
UID:21294-1751198400-1751328000@www.saxmundham.org
SUMMARY:24 Hour Treadmill-athon Challenge
DESCRIPTION:Fundraising for Cancer Research UK and Alzheimer’s Society\, The Cleaning Company are holding an open day with BBQ\, raffle\, tombola\, Brick-a-Brack\, stalls and more!  Plus have a go on the treadmill for charity!
URL:https://www.saxmundham.org/event/24-hour-treadmill-athon-challenge/
LOCATION:The Cleaning Company\, Unit 2 St Johns Road\, Saxmundham\, Suffolk\, IP17 1BE\, United Kingdom
ATTACH;FMTTYPE=image/png:https://www.saxmundham.org/wp-content/uploads/2025/06/Treadmill-athon-Challenge-poster.png
END:VEVENT
BEGIN:VEVENT
DTSTART;TZID=UTC:20250702T153000
DTEND;TZID=UTC:20250702T163000
DTSTAMP:20260420T045349
CREATED:20250522T151858Z
LAST-MODIFIED:20250522T152311Z
UID:20907-1751470200-1751473800@www.saxmundham.org
SUMMARY:Finding Your Feet
DESCRIPTION:
URL:https://www.saxmundham.org/event/finding-your-feet-open-afternoon-2-2-2/
LOCATION:Saxmundham Market Hall\, High Street\, Saxmundham\, IP171AF\, United Kingdom
ATTACH;FMTTYPE=image/png:https://www.saxmundham.org/wp-content/uploads/2025/05/Finding-your-feet-advert-1.png
ORGANIZER;CN="Saxmundham%20Judo%20Club":MAILTO:judokeef@gmail.com
END:VEVENT
BEGIN:VEVENT
DTSTART;TZID=UTC:20250712T090000
DTEND;TZID=UTC:20250712T150000
DTSTAMP:20260420T045349
CREATED:20250623T081452Z
LAST-MODIFIED:20250623T081452Z
UID:21392-1752310800-1752332400@www.saxmundham.org
SUMMARY:Saxmundham Saturday Market
DESCRIPTION:
URL:https://www.saxmundham.org/event/saxmundham-saturday-market/
LOCATION:Fromus Square\, IP17 1DD
ATTACH;FMTTYPE=image/png:https://www.saxmundham.org/wp-content/uploads/2025/06/July.png
ORGANIZER;CN="Saxmundham%20Town%20Council":MAILTO:townclerk@saxmundham-tc.gov.uk
END:VEVENT
BEGIN:VEVENT
DTSTART;VALUE=DATE:20250714
DTEND;VALUE=DATE:20250715
DTSTAMP:20260420T045349
CREATED:20250703T145244Z
LAST-MODIFIED:20250703T145244Z
UID:21781-1752451200-1752537599@www.saxmundham.org
SUMMARY:Great Garden Rail Trail
DESCRIPTION:The Great Garden Rail Trail with St Elizabeth Hospice and Greater Anglia Monday 14 July.Tour East Suffolk Line station gardens by train! Enjoy a talk by Suffolk Wildlife Trust and station adopters at #Saxmundham.We’ve got 60 Dahlia tubers to give away thanks to Farmer Gracy.With your ticket you can hop on and off the train at your leisure and visit other places along the line.
URL:https://www.saxmundham.org/event/great-garden-rail-trail/
LOCATION:Suffolk
ATTACH;FMTTYPE=image/jpeg:https://www.saxmundham.org/wp-content/uploads/2025/07/Rail.jpg
END:VEVENT
BEGIN:VEVENT
DTSTART;TZID=UTC:20250716T153000
DTEND;TZID=UTC:20250716T163000
DTSTAMP:20260420T045349
CREATED:20250522T154224Z
LAST-MODIFIED:20250522T155205Z
UID:20909-1752679800-1752683400@www.saxmundham.org
SUMMARY:Finding Your Feet
DESCRIPTION:
URL:https://www.saxmundham.org/event/finding-your-feet-open-afternoon-2-2-2-2/
LOCATION:Saxmundham Market Hall\, High Street\, Saxmundham\, IP171AF\, United Kingdom
ATTACH;FMTTYPE=image/png:https://www.saxmundham.org/wp-content/uploads/2025/05/Finding-your-feet-advert-1.png
ORGANIZER;CN="Saxmundham%20Judo%20Club":MAILTO:judokeef@gmail.com
END:VEVENT
BEGIN:VEVENT
DTSTART;TZID=UTC:20250719T100000
DTEND;TZID=UTC:20250719T140000
DTSTAMP:20260420T045349
CREATED:20250710T091914Z
LAST-MODIFIED:20250710T102131Z
UID:21817-1752919200-1752933600@www.saxmundham.org
SUMMARY:Framlingham & Saxmundham Cats Protection - Summer Fundraising Event
DESCRIPTION:We are celebrating 35 years of the Framlingham & Saxmundham Cats Protection branch! This is an opportunity to meet our team and talk to us about how we help cats in the area. We look forward to meeting old and new supporters at this fun event.\nTombola\, raffle\, sales stalls\, home-made cakes\, and refreshments will be on offer!
URL:https://www.saxmundham.org/event/framlingham-saxmundham-cats-protection-summer-fundraising-event/
LOCATION:Saxmundham Market Hall\, High Street\, Saxmundham\, IP171AF\, United Kingdom
ATTACH;FMTTYPE=image/jpeg:https://www.saxmundham.org/wp-content/uploads/2025/07/Summer-Fair-Anniversary-Saxmundham-2025.jpg
END:VEVENT
BEGIN:VEVENT
DTSTART;TZID=UTC:20250809T120000
DTEND;TZID=UTC:20250809T170000
DTSTAMP:20260420T045349
CREATED:20250623T081918Z
LAST-MODIFIED:20250623T083019Z
UID:21395-1754740800-1754758800@www.saxmundham.org
SUMMARY:Sax Fest Pop-Up Market
DESCRIPTION:In an exciting new collaboration\, Saxmundham Market and Sax Music Festival are joining forces to bring a pop-up market to Seaman Avenue play park – the gateway to the festival site. This new addition to the much-loved community music event will see a variety of stalls lining the entrance\, offering a colourful array of artisan goods\, festival essentials\, handmade crafts\, and family-friendly treats. \nVisitors heading to and from Sax Music Fest 2025 will be welcomed by the sights and sounds of a lively outdoor market – all curated to reflect the creativity and energy of the festival. From unique gifts and sustainable fashion to delicious treats and children’s activities\, the pop-up market promises something for everyone. \nOrganised by Saxmundham Town Council in partnership with Sax Music Festival\, this initiative aims to support local traders\, showcase independent talent and enhance the festival atmosphere for attendees of all ages. \nFor Stallholders: \nCome along and enjoy the festival atmosphere! Pitches are just £15 each (3x3m space). Interested stallholders are encouraged to apply\, especially those with something imaginative or festival-friendly to offer. To register or find out more\, email: bookings@saxmundham-tc.gov.uk \nPlease note the market takes place on grass\, with no access to power supply. We are not accepting booking from hot food vendors.
URL:https://www.saxmundham.org/event/sax-fest-pop-up-market/
LOCATION:Seaman Avenue Play Park\, Seaman Avenue\, Saxmundham\, Suffolk\, IP17 1DZ\, United Kingdom
ATTACH;FMTTYPE=image/png:https://www.saxmundham.org/wp-content/uploads/2025/06/Sax-Market-x-Sax-Fest-poster.png
ORGANIZER;CN="Saxmundham%20Town%20Council":MAILTO:townclerk@saxmundham-tc.gov.uk
END:VEVENT
BEGIN:VEVENT
DTSTART;TZID=UTC:20250815T193000
DTEND;TZID=UTC:20250815T220000
DTSTAMP:20260420T045349
CREATED:20250616T082205Z
LAST-MODIFIED:20250616T082205Z
UID:21335-1755286200-1755295200@www.saxmundham.org
SUMMARY:Recalling Soul & Motown’s Greatest Hits - Heard It Through The Grapevine
DESCRIPTION:Introducing a powerhouse group that pays homage to the timeless sounds of soul and Motown! This talented ensemble has been captivating audiences for 15 years. With an impressive vocal range that brings the greatest of the genre to life\, they deliver unforgettable performances that resonate with fans of all ages. Currently touring the UK\, they bring their high-energy shows to venues across the country\, creating an electric atmosphere that keeps people on their feet. Their deep connection to music – as well as each other – shines through in every show\, making them a must-see act. Book them now to experience the magic of soul and Motown like never before!\nHits include: Heard It Through The Grapevine\, Dancing On The Ceiling\, Just My Imagination\, My Girl\, Love Train\, Standing In The ShadowsOf Love\, Rhythm of The Night\, Temptations Medley\, Love Machine \, Ain’t No Stoppin Us Now & many more
URL:https://www.saxmundham.org/event/recalling-soul-motowns-greatest-hits-heard-it-through-the-grapevine/
LOCATION:Thorington Theatre\, Unnamed Road Saxmundham IP17 3RB\, Saxmundham\, England\, IP17 3RB\, United Kingdom
ATTACH;FMTTYPE=image/jpeg:https://www.saxmundham.org/wp-content/uploads/2025/06/3d0f430f-a6f6-4ee2-ac9d-1af149e8bf6c.jpeg
ORGANIZER;CN="xplosion":MAILTO:xplosionsimone@gmail.com
END:VEVENT
END:VCALENDAR